BEGIN:VCALENDAR
VERSION:2.0
PRODID:-//TQMI - ECPv6.0.8//NONSGML v1.0//EN
CALSCALE:GREGORIAN
METHOD:PUBLISH
X-ORIGINAL-URL:https://www.tqmi.com
X-WR-CALDESC:Events for TQMI
REFRESH-INTERVAL;VALUE=DURATION:PT1H
X-Robots-Tag:noindex
X-PUBLISHED-TTL:PT1H
BEGIN:VTIMEZONE
TZID:UTC
BEGIN:STANDARD
TZOFFSETFROM:+0000
TZOFFSETTO:+0000
TZNAME:UTC
DTSTART:20210101T000000
END:STANDARD
TZID:UTC
BEGIN:STANDARD
TZOFFSETFROM:+0000
TZOFFSETTO:+0000
TZNAME:UTC
DTSTART:20210101T000000
END:STANDARD
END:VTIMEZONE
BEGIN:VEVENT
DTSTART;VALUE=DATE:20210930
DTEND;VALUE=DATE:20211001
DTSTAMP:20260423T154046
CREATED:20210924T065641Z
LAST-MODIFIED:20210927T052724Z
UID:41678-1632960000-1633046399@www.tqmi.com
SUMMARY:Training on 7 QC Story
DESCRIPTION:Duration: 1 Day (6 Hours)\nTraining Timing: 1000-1700 hrs\nTraining Fee (Rs.) exclusive of GST: 4\,000/- per participant
URL:https://www.tqmi.com/event/training-on-7-qc-story/
CATEGORIES:On-Line
END:VEVENT
BEGIN:VEVENT
DTSTART;TZID=UTC:20210817T080000
DTEND;TZID=UTC:20210817T170000
DTSTAMP:20260423T154046
CREATED:20210817T030607Z
LAST-MODIFIED:20210817T030607Z
UID:40401-1629187200-1629219600@www.tqmi.com
SUMMARY:event 1
DESCRIPTION:
URL:https://www.tqmi.com/event/event-1/
LOCATION:asdf\, asdf\, adsf\, Maharashtra\, 12323\, India
END:VEVENT
BEGIN:VEVENT
DTSTART;VALUE=DATE:20210325
DTEND;VALUE=DATE:20210327
DTSTAMP:20260423T154046
CREATED:20210927T054353Z
LAST-MODIFIED:20211221T092344Z
UID:41778-1616630400-1616803199@www.tqmi.com
SUMMARY:Lean Six Sigma Yellow Belt Training
DESCRIPTION:Duration: 2 days (12 Hours)\nTraining Timing: 1000-1700 hrs\nTraining Fee (Rs.) exclusive of GST: 8\,000/- per participant
URL:https://www.tqmi.com/event/lean-six-sigma-yellow-belt-training-3/
CATEGORIES:On-Line
END:VEVENT
END:VCALENDAR